BEGIN:VCALENDAR
VERSION:2.0
PRODID:-//Aufbruch Plattform - ECPv6.15.20//NONSGML v1.0//EN
CALSCALE:GREGORIAN
METHOD:PUBLISH
X-WR-CALNAME:Aufbruch Plattform
X-ORIGINAL-URL:https://plattform.schule-im-aufbruch.de
X-WR-CALDESC:Veranstaltungen für Aufbruch Plattform
REFRESH-INTERVAL;VALUE=DURATION:PT1H
X-Robots-Tag:noindex
X-PUBLISHED-TTL:PT1H
BEGIN:VTIMEZONE
TZID:Europe/Berlin
BEGIN:DAYLIGHT
TZOFFSETFROM:+0100
TZOFFSETTO:+0200
TZNAME:CEST
DTSTART:20250330T010000
END:DAYLIGHT
BEGIN:STANDARD
TZOFFSETFROM:+0200
TZOFFSETTO:+0100
TZNAME:CET
DTSTART:20251026T010000
END:STANDARD
BEGIN:DAYLIGHT
TZOFFSETFROM:+0100
TZOFFSETTO:+0200
TZNAME:CEST
DTSTART:20260329T010000
END:DAYLIGHT
BEGIN:STANDARD
TZOFFSETFROM:+0200
TZOFFSETTO:+0100
TZNAME:CET
DTSTART:20261025T010000
END:STANDARD
BEGIN:DAYLIGHT
TZOFFSETFROM:+0100
TZOFFSETTO:+0200
TZNAME:CEST
DTSTART:20270328T010000
END:DAYLIGHT
BEGIN:STANDARD
TZOFFSETFROM:+0200
TZOFFSETTO:+0100
TZNAME:CET
DTSTART:20271031T010000
END:STANDARD
END:VTIMEZONE
BEGIN:VEVENT
DTSTART;TZID=Europe/Berlin:20260506T140000
DTEND;TZID=Europe/Berlin:20260506T150000
DTSTAMP:20260420T162643
CREATED:20260327T135315Z
LAST-MODIFIED:20260327T135315Z
UID:10000697-1778076000-1778079600@plattform.schule-im-aufbruch.de
SUMMARY:Dialograum und Erfahrungsaustausch für Grundschulen
DESCRIPTION:Entdecke die spannende Möglichkeit der Dialogräume im Netzwerk von Schule im Aufbruch e.V.! Diese schulübergreifende Vernetzungs- und Austauschplattform bietet dir die  Gelegenheit\, dich schulformspezifisch zu Praxiserfahrungen\, Fragen und Herausforderungen auszutauschen und von und mit anderen Kolleg*innen zusammen zu lernen. Lass dich inspirieren von den Praxiseinblicken und innovativen Ansätzen in den Bereichen BNE\, Whole School Approach\, eigenverantwortliches Lernen\, Partizipation\, individuelle Förderung\, Feedbackkultur\, dem FREI DAY und vielem mehr. \nIn unseren Dialogräumen präsentieren wir dir inspirierende Good Practice Beispiele von Schulen und Partnerorganisationen aus dem bundesweiten  Netzwerk. Es gibt zudem Zeit für kollegialen Austausch und die gegenseitige Ermutigung und Inspiration. \nAn wen richtet sich das Format?\nAn Menschen aus Grundschulen\, die sich von neuen Ideen und Erfahrungen inspirieren lassen möchten und in Austausch mit anderen Schulen im Aufbruch kommen möchten. \nWer kann teilnehmen?\nDu kannst an der Veranstaltungsreihe teilnehmen\, wenn du oder deine Schule zahlendes Mitglied im Schule im Aufbruch Netzwerk e.V. b*ist oder deine Schule von uns im Rahmen der Transformationsbegleitung begleitet wird. Hier erfährst du\, wie du Mitglied im Schule im Aufbruch Netzwerk werden kannst: Jetzt Mitglied werden! \nHinweis: Den Zoomlink bekommst du bei erfolgreicher Anmeldung am Morgen der Veranstaltung per Mail zugeschickt.
URL:https://plattform.schule-im-aufbruch.de/veranstaltung/dialograum-und-erfahrungsaustausch-fuer-grundschulen-6/
CATEGORIES:Dialograum,Digitale Veranstaltungen,FREI DAY Unterstützungsprogramm,öffentlich
ATTACH;FMTTYPE=image/jpeg:https://plattform.schule-im-aufbruch.de/wp-content/uploads/2024/07/grundschulen_neu.jpg
END:VEVENT
BEGIN:VEVENT
DTSTART;TZID=Europe/Berlin:20260507T163000
DTEND;TZID=Europe/Berlin:20260507T173000
DTSTAMP:20260420T162643
CREATED:20260327T135627Z
LAST-MODIFIED:20260327T135627Z
UID:10000698-1778171400-1778175000@plattform.schule-im-aufbruch.de
SUMMARY:Dialograum und Erfahrungsaustausch für berufsbildende Schulen
DESCRIPTION:Entdecke die spannende Möglichkeit der Dialogräume im Netzwerk von Schule im Aufbruch e.V.! Diese schulübergreifende Vernetzungs- und Austauschplattform bietet dir die  Gelegenheit\, dich schulformspezifisch zu Praxiserfahrungen\, Fragen und Herausforderungen auszutauschen und von und mit anderen Kolleg*innen zusammen zu lernen. Lass dich inspirieren von den Praxiseinblicken und innovativen Ansätzen in den Bereichen BNE\, Whole School Approach\, eigenverantwortliches Lernen\, Partizipation\, individuelle Förderung\, Feedbackkultur\, dem FREI DAY und vielem mehr. \nIn unseren Dialogräumen präsentieren wir dir inspirierende Good Practice Beispiele von Schulen und Partnerorganisationen aus dem bundesweiten  Netzwerk. Es gibt zudem Zeit für kollegialen Austausch und die gegenseitige Ermutigung und Inspiration. \nAn wen richtet sich das Format?\nAn Menschen aus Gymnasien\, die sich von neuen Ideen und Erfahrungen inspirieren lassen möchten und in Austausch mit anderen Schulen im Aufbruch kommen möchten. \nWer kann teilnehmen?\nDu kannst an der Veranstaltungsreihe teilnehmen\, wenn du oder deine Schule zahlendes Mitglied im Schule im Aufbruch Netzwerk e.V. b*ist oder deine Schule von uns im Rahmen der Transformationsbegleitung begleitet wird. Hier erfährst du\, wie du Mitglied im Schule im Aufbruch Netzwerk werden kannst: Jetzt Mitglied werden! \nHinweis: Den Zoomlink bekommst du bei erfolgreicher Anmeldung am Morgen der Veranstaltung per Mail zugeschickt.
URL:https://plattform.schule-im-aufbruch.de/veranstaltung/dialograum-und-erfahrungsaustausch-fuer-berufsbildende-schulen-4/
CATEGORIES:Dialograum,Digitale Veranstaltungen,FREI DAY Unterstützungsprogramm,öffentlich
ATTACH;FMTTYPE=image/jpeg:https://plattform.schule-im-aufbruch.de/wp-content/uploads/2025/01/dialograum-berufsbildende-schulen.jpg
END:VEVENT
BEGIN:VEVENT
DTSTART;TZID=Europe/Berlin:20260512T160000
DTEND;TZID=Europe/Berlin:20260512T170000
DTSTAMP:20260420T162643
CREATED:20260327T135732Z
LAST-MODIFIED:20260327T135732Z
UID:10000699-1778601600-1778605200@plattform.schule-im-aufbruch.de
SUMMARY:Dialograum und Erfahrungsaustausch für weiterführende Schulen
DESCRIPTION:Entdecke die spannende Möglichkeit der Dialogräume im Netzwerk von Schule im Aufbruch e.V.! Diese schulübergreifende Vernetzungs- und Austauschplattform bietet dir die  Gelegenheit\, dich schulformspezifisch zu Praxiserfahrungen\, Fragen und Herausforderungen auszutauschen und von und mit anderen Kolleg*innen zusammen zu lernen. Lass dich inspirieren von den Praxiseinblicken und innovativen Ansätzen in den Bereichen BNE\, Whole School Approach\, eigenverantwortliches Lernen\, Partizipation\, individuelle Förderung\, Feedbackkultur\, dem FREI DAY und vielem mehr. \nIn unseren Dialogräumen präsentieren wir dir inspirierende Good Practice Beispiele von Schulen und Partnerorganisationen aus dem bundesweiten  Netzwerk. Es gibt zudem Zeit für kollegialen Austausch und die gegenseitige Ermutigung und Inspiration. \nAn wen richtet sich das Format?\nAn Menschen aus weiterführenden Schulen\, die sich von neuen Ideen und Erfahrungen inspirieren lassen möchten und in Austausch mit anderen Schulen im Aufbruch kommen möchten. \nWer kann teilnehmen?\nDu kannst an der Veranstaltungsreihe teilnehmen\, wenn du oder deine Schule zahlendes Mitglied im Schule im Aufbruch Netzwerk e.V. b*ist oder deine Schule von uns im Rahmen der Transformationsbegleitung begleitet wird. Hier erfährst du\, wie du Mitglied im Schule im Aufbruch Netzwerk werden kannst: Jetzt Mitglied werden! \nHinweis: Den Zoomlink bekommst du bei erfolgreicher Anmeldung am Morgen der Veranstaltung per Mail zugeschickt.
URL:https://plattform.schule-im-aufbruch.de/veranstaltung/dialograum-und-erfahrungsaustausch-fuer-weiterfuehrende-schulen-6/
CATEGORIES:Dialograum,Digitale Veranstaltungen,FREI DAY Unterstützungsprogramm,öffentlich
ATTACH;FMTTYPE=image/jpeg:https://plattform.schule-im-aufbruch.de/wp-content/uploads/2024/07/weiterfuehrend_neu.jpg
END:VEVENT
BEGIN:VEVENT
DTSTART;TZID=Europe/Berlin:20260518T113000
DTEND;TZID=Europe/Berlin:20260518T123000
DTSTAMP:20260420T162643
CREATED:20260327T135810Z
LAST-MODIFIED:20260327T135810Z
UID:10000700-1779103800-1779107400@plattform.schule-im-aufbruch.de
SUMMARY:Dialograum für Schulleitungen
DESCRIPTION:Wir laden alle Schulleitungsteams bundesweit ein\, sich einmal im Quartal schulübergreifend zu ihren Fragen und Herausforderungen rund um schüler*innen- und zukunftsorientierte Schul- und Unterrichtsentwicklungen auszutauschen. Ziel ist ein kollegialer Austausch zu guten Ideen\, Schulentwicklungsprozessen\, Rechtsfragen\, Handlungs- und Gestaltungsspielräumen und vielem mehr. Gemeinsam können wir Kräfte bündeln und von den Erfahrungen an innovativen Schulen bundesweit profitieren. Sei dabei! \nWer kann teilnehmen?\nDu kannst an der Veranstaltungsreihe teilnehmen\, wenn du oder deine Schule zahlendes Mitglied im Netzwerk von Schule im Aufbruch e.V. bist oder deine Schule im Rahmen der Transformationsbegleitung  von uns begleitet wird. Hier erfährst du\, wie du Mitglied im Schule im Aufbruch Netzwerk werden kannst: Jetzt Mitglied werden! \nHinweis: Den Zoomlink bekommst du bei erfolgreicher Anmeldung am Morgen der Veranstaltung per Mail zugeschickt.
URL:https://plattform.schule-im-aufbruch.de/veranstaltung/dialograum-fuer-schulleitungen-7/
CATEGORIES:Dialograum,öffentlich,Schulleitungsaustausch
ATTACH;FMTTYPE=image/jpeg:https://plattform.schule-im-aufbruch.de/wp-content/uploads/2024/07/schulleitungen_neu.jpg
END:VEVENT
END:VCALENDAR